Workbook

Sheet Menu
A1: @dropdown
C3: APLIKASI PENILAIAN KINERJA KEPALA SEKOLAH BERBASIS KOMPETENSI Sesuai Perdirjen GTK No 2626/B/HK.04.01/2023 dan Perdirjen 5958/B/HK.03.01/2022
C8: INPUT DATA PKKS | I8: CETAK PKKS
D10: Input Identitas | J10: Cetak Instrumen
D12: Input Skor Kompetensi 1 | J12: Cetak Form Kuesioner Guru/Sejawat
D14: Input Skor Kompetensi 2 | J14: Cetak Form Kuesioner Siswa
D16: Input Skor Kompetensi 3 | J16: Cetak Form Kuesioner Orang Tua
D18: Input Skor Kompetensi 4 | J18: Cetak Form Kuesioner Dudi
D20: Input Penilaian Guru/Sejawat | J20: Cetak Rekapitulasi
D22: Input Penilaian Siswa | J22: Cetak Penilaian 3600
D24: Input Penilaian Orang Tua Siswa | J24: Cetak Laporan Evaluasi
D26: Input Penilaian Dudi | J26: Cetak Konversi Angka Kredit
L28: MKPS SMA-SLB-SMK JATENG©

Sheet Identitas
B1: DATA PENILAIAN PENGEMBANGAN KOMPETENSI
B2: PROFESIONAL KEPALA SEKOLAH DAN PENILAI
B4: a. | C4: Nama KS yang dinilai | D4: : | E4: Jumadi, S.Pd., M.Pd
C5: N I P | D5: : | E5: 196603061988061001
C6: NUPTK / NRG | D6: :
C7: Tempat / Tgl Lahir | D7: : | E7: Boyolali, 6 Maret 1966
C8: Pangkat / Gol. / TMT | D8: : | E8: Pembina Tk I | F8: IV b
C9: Jabatan | D9: : | E9: Kepala Sekolah
C10: Masa Kerja | D10: : | E10: 35 th, 5 bln
C11: Jenis Kelamin | D11: : | E11: Laki-laki
C12: Pend. Terakhir | D12: : | E12: S 2
C13: Spesialisasi | D13: : | E13: Guru Mapel
C14: TMT KS | D14: : | E14: 22 Juni 2011
C15: Penilaian Tahun | D15: : | E15: 2023
B17: b. | C17: Nama Instansi/Sklh. | D17: : | E17: SMA Negeri Cilacap
C18: Telepon / Fax | D18: : | E18: -
C19: Kelurahan | D19: : | E19: Jl. Ngadenan 549, Cilacap
C20: Kecamatan | D20: : | E20: Simo
C21: Kota/Kab | D21: : | E21: Cilacap
C22: Provinsi | D22: : | E22: Jawa Tengah
B24: c. | C24: Penilai | D24: : | E24: Yulianto Harsono, S.Pd.,M.Si
C25: NIP | D25: : | E25: 196907041994121001
C26: SK Penugasan | D26: : | E26: Pengawas SMA
C27: Nomor | D27: : | E27: 821.3/464/2021
C28: Tanggal | D28: : | E28: 20 Agustus 2023
C29: Berlaku sampai dgn | D29: : | E29: 4 Juli 2029
B31: d. | C31: Jenjang Pendidikan | D31: : | E31: Klik options button (○)
C32: PAUD/RA/SLB | D32: SD/MI | F32: SMP/MTs | G32: SMA/MA | H32: SMK
C33: 4
B35: e. | C35: Unit Organisasi | D35: : | E35: Klik options button (○)
C36: Pemkab/kot | E36: Kemenag Kab/Kot | G36: Pemprov
C37: 3
B39: f. | C39: Periode dan Jenis Penilaian
C40: Periode Penilaian | F40: Formatif | H40: Waktu
C41: 01 Januari 2023 | D41: s.d | E41: 31 Desember 2023 | F41: Sumatif | G41: 2 | H41: 10 Desember 2023
C42: (tanggal, bulan, tahun) | E42: (tanggal, bulan, tahun) | F42: Kemajuan

Sheet Kompetensi 1
B3: 1. PENGEMBANGAN DIRI DAN ORANG LAIN
B4: Kompetensi:
B5: 1.1 Menunjukkan praktik pengembangan diri berdasarkan kesadaran dan kemauan pribadi.
B6: KLIK SKOR | H6: INDIKATOR | J6: TINGKAT KOMPETENSI | R6: BUKTI FISIK / INDIKATOR YANG TERIDENTIFIKASI
B7: 0 | C7: 1 | D7: 2 | E7: 3 | F7: 4
G8: 1. Mengenali potensi diri dalam kepemimpinan pendidikan. | J8: =IF(L8<1.49,"Berkembang",IF(L8<2.49,"Layak",IF(L8<3.49,"Cakap",IF(L8<4.49,"Mahir","")))) -> Cakap | L8: =SUM(M8:M11)/N8*4 -> 2.5 | M8: =S8-1 -> 1 | N8: =COUNTA(G8:G11)*4 -> 16 | Q8: 1. | R8: Program Kerja Sekolah (Bukti Fisik :RKJM, RKT, RKAS) | S8: 2
G9: 2. Mengambil inisiatif, menetapkan tujuan, dan merencanakan pengembangan diri sesuai dengan kebutuhan kepemimpinan pendidikan yang dihadapi. | M9: =S9-1 -> 1 | Q9: 2. | R9: Program Pengembangan Keprofesian Berkelanjutan / Pengembangan Diri Kepala Sekolah (PD, PIKI, Keg Penunjang) | S9: 2
G10: 3. Melakukan pengembangan diri sesuai dengan yang direncanakan. | M10: =S10-1 -> 4 | Q10: 3. | R10: Jurnal / Catatan Daftar Kegiatan Pengembangan Diri yang diikuti/PIKI | S10: 5
G11: 4. Melakukan refleksi terhadap hasil pengembangan diri untuk perbaikan. | M11: =S11-1 -> 4 | Q11: 4. | R11: Evaluasi Kegiatan Program Kerja Sekolah dalam bentuk Rapat koordinasi dengan Tim Work Sekolah. (Dafhad, Notulen Rapat,foto dll) | S11: 5
B12: =J6&"" -> TINGKAT KOMPETENSI
B13: Berkembang | H13: Cakap | I13: Mahir | J13: SKOR
B14: =IF(J8="Berkembang","v","") | G14: =IF(J8="Layak","v","") | H14: =IF(J8="Cakap","v","") -> v | I14: =IF(J8="Mahir","v","") | J14: =IF(J8="Berkembang",1,IF(J8="Layak",2,IF(J8="Cakap",3,IF(J8="Mahir",4,"")))) -> 3 | L14: A1 | M14: =IF(COUNTA(B14)=1,1,0) -> 1 | N14: =IF(COUNTA(G14)=1,2,0) -> 2 | O14: =IF(COUNTA(H14)=1,3,0) -> 3 | P14: =IF(COUNTA(I14)=1,4,0) -> 4
B15: Melakukan refleksi terhadap potensi diri dan hasil pengembangan diri sesuai dengan kebutuhan kepemimpinan pendidikan yang dihadapi. | G15: Membiasakan diri melakukan refleksi terhadap potensi diri dan hasil pengembangan diri sesuai dengan kebutuhan kepemimpinan pendidikan yang dihadapi sehingga dapat menentukan tujuan pengembangan diri yang spesifik. | H15: Menjadi terbiasa melakukan refleksi secara terstruktur dalam praktik kepemimpinan sehingga memiliki mekanisme dalam pengembangan diri secara mandiri. | I15: Menginisiasi kolaborasi dalam melakukan refleksi dengan melibatkan warga sekolah, termasuk memantau dampak efektivitasnya pada perkembangan sekolah, sebagai dasar untuk melakukan pengembangan praktik kepemimpinan pembelajaran dan pendidikan.
B17: Kompetensi:
B18: 1.2 Mengembangkan kompetensi warga sekolah untuk meningkatkan kualitas pembelajaran.
B19: KLIK SKOR | H19: INDIKATOR | J19: TINGKAT KOMPETENSI | R19: BUKTI FISIK / INDIKATOR YANG TERIDENTIFIKASI
B20: 0 | C20: 1 | D20: 2 | E20: 3 | F20: 4
G21: 1. Memetakan kebutuhan belajar warga sekolah untuk meningkatkan kualitas pembelajaran. | J21: =IF(L21<1.49,"Berkembang",IF(L21<2.49,"Layak",IF(L21<3.49,"Cakap",IF(L21<4.49,"Mahir","")))) -> Mahir | L21: =SUM(M21:M25)/N21*4 -> 3.8 | M21: =S21-1 -> 4 | N21: =COUNTA(G21:G25)*4 -> 20 | Q21: 1. | R21: Analisis kebutuhan kompetensi guru, pelatihan bagi guru kerja sekolah, tertuang dalam program rencana kerja sekolah. | S21: 5
G22: 2. Melakukan pendampingan kepada guru untuk melakukan pengembangan diri. | M22: =S22-1 -> 4 | Q22: 2. | R22: Program Pelatihan Guru di lingkungan sekolah. | S22: 5
G23: 3. Melakukan pendampingan kepada guru untuk meningkatkan kualitas pembelajaran. | M23: =S23-1 -> 4 | Q23: 3. | R23: Supervisi Akademik Guru (Program dan Pelaksanaan) | S23: 5
G24: 4. Mendorong warga sekolah menguasai kompetensi yang dibutuhkan. | M24: =S24-1 -> 3 | Q24: 4. | R24: Tindak lanjut kegiatan supervisi guru (Evaluasi dan Tindak Lanjut) | S24: 4
G25: 5. Memberikan kesempatan kepada warga sekolah untuk melakukan pengembangan kompetensi di luar sekolah. | M25: =S25-1 -> 4 | Q25: 5. | R25: Program Pelatihan Guru di luar sekolah dan atau magang. | S25: 5
B26: =J19&"" -> TINGKAT KOMPETENSI
B27: Berkembang | G27: Layak | H27: Cakap | I27: Mahir | J27: SKOR
B28: =IF(J21="Berkembang","v","") | G28: =IF(J21="Layak","v","") | H28: =IF(J21="Cakap","v","") | I28: =IF(J21="Mahir","v","") -> v | J28: =IF(J21="Berkembang",1,IF(J21="Layak",2,IF(J21="Cakap",3,IF(J21="Mahir",4,"")))) -> 4 | L28: A1 | M28: =IF(COUNTA(B28)=1,1,0) -> 1 | N28: =IF(COUNTA(G28)=1,2,0) -> 2 | O28: =IF(COUNTA(H28)=1,3,0) -> 3 | P28: =IF(COUNTA(I28)=1,4,0) -> 4
B29: Memetakan kebutuhan belajar warga sekolah dalam melakukan pengembangan diri untuk meningkatkan kualitas pembelajaran. | G29: Menentukan strategi dan melakukan pendampingan kepada guru dalam pelaksanaan pengembangan diri dan peningkatan kualitas pembelajaran. | H29: Menentukan strategi dan melakukan pendampingan kepada guru dalam pelaksanaan pengembangan diri dan peningkatan kualitas pembelajaran serta memberikan kesempatan kepada warga sekolah dalam peningkatan kompetensi di luar sekolah. | I29: Mengembangkan mekanisme dalam pemetaan kebutuhan belajar warga sekolah, penentuan strategi, dan pendampingan kepada guru dalam pelaksanaan pengembangan diri dan peningkatan kualitas pembelajaran serta dalam memberikan kesempatan kepada warga sekolah dalam peningkatan kompetensi di luar sekolah.
B31: Kompetensi:
B32: 1.3 Berpartisipasi aktif dalam jejaring dan organisasi yang relevan dengan kepemimpinan sekolah untuk mengembangkan karier.
B33: KLIK SKOR | H33: INDIKATOR | J33: TINGKAT KOMPETENSI | R33: BUKTI FISIK / INDIKATOR YANG TERIDENTIFIKASI
B34: 0 | C34: 1 | D34: 2 | E34: 3 | F34: 4
G35: 1. Ikut serta dalam kegiatan jejaring dan organisasi yang relevan dengan kepemimpinan sekolah. | J35: =IF(L35<1.49,"Berkembang",IF(L35<2.49,"Layak",IF(L35<3.49,"Cakap",IF(L35<4.49,"Mahir","")))) -> Mahir | L35: =SUM(M35:M39)/N35*4 -> 3.6 | M35: =S35-1 -> 3 | N35: =COUNTA(G35:G39)*4 -> 20 | Q35: 1. | R35: Aktif pada Organisasi MKKS dan atau PGRI | S35: 4
G36: 2. Berbagi praktik baik kepemimpinan sekolah dalam kegiatan jejaring dan organisasi yang relevan. | M36: =S36-1 -> 3 | Q36: 2. | R36: Berbagi pengalaman dengan sekolah lain dalam bentuk Lokakarya dan atau kegiatan sejenis. | S36: 4
G37: 3. Mengadopsi dan mengadaptasi praktik baik kepemimpinan dari kegiatan jejaring dan organisasi yang relevan. | M37: =S37-1 -> 4 | Q37: 3. | R37: Aktif mengikuti Lokakarya dan atau kegiatan sejenis dalam rangka peningkatan kompetensi diri. | S37: 5
G38: 4. Mendampingi pimpinan sekolah lain dalam pengembangan karier melalui jejaring dan organisasi yang relevan dengan kepemimpinan sekolah. | M38: =S38-1 -> 4 | Q38: 4. | R38: Berbagi pengalaman dengan sekolah lain dalam bentuk Lokakarya dan atau kegiatan sejenis. | S38: 5
G39: 5. Berinisiatif mengembangkan dan memberdayakan jejaring dan organisasi kepemimpinan sekolah. | M39: =S39-1 -> 4 | Q39: 5. | R39: Menginisiasi dan aktif dalam menyusun Program MKKS. | S39: 5
B40: =J33&"" -> TINGKAT KOMPETENSI
B41: Berkembang | G41: Layak | H41: Cakap | I41: Mahir | J41: SKOR
B42: =IF(J35="Berkembang","v","") | G42: =IF(J35="Layak","v","") | H42: =IF(J35="Cakap","v","") | I42: =IF(J35="Mahir","v","") -> v | J42: =IF(J35="Berkembang",1,IF(J35="Layak",2,IF(J35="Cakap",3,IF(J35="Mahir",4,"")))) -> 4 | L42: A1 | M42: =IF(COUNTA(B42)=1,1,0) -> 1 | N42: =IF(COUNTA(G42)=1,2,0) -> 2 | O42: =IF(COUNTA(H42)=1,3,0) -> 3 | P42: =IF(COUNTA(I42)=1,4,0) -> 4
B43: Berpartisipasi dalam kegiatan jejaring dan organisasi kepemimpinan sekolah dengan mengambil praktik baik dari kepemimpinan sekolah lain untuk melakukan refleksi dalam rangka pengembangan diri. | G43: Berbagi praktik baik dalam kepemimpinan sekolah secara berkala dan konsisten melalui kegiatan jejaring dan organisasi yang relevan, serta mengadopsi dan mengadaptasi praktik baik dalam kepemimpinan sekolah lain yang relevan. | H43: Berbagi praktik baik dalam kepemimpinan sekolah secara berkala dan konsisten, mengadopsi dan mengadaptasi praktik baik dalam kepemimpinan sekolah lain yang relevan, serta mendampingi pimpinan sekolah lain dalam pengembangan karier melalui jejaring dan organisasi yang relevan dengan kepemimpinan sekolah. | I43: Menginisiasi pengembangan dan pemberdayaan jejaring dan organisasi kepemimpinan sekolah untuk memfasilitasi kegiatan berbagi praktik baik dalam kepemimpinan sekolah secara berkala dan konsisten, kegiatan mengadopsi dan mengadaptasi praktik baik dalam kepemimpinan sekolah lain yang relevan, serta kegiatan mendampingi pimpinan sekolah lain dalam pengembangan karier.
B45: Kompetensi:
...

Sheet Sheet1

Sheet Kompetensi 2
B3: 2. KEPEMIMPINAN PEMBELAJARAN
B4: Kompetensi:
B5: 2.1 Memimpin upaya pengembangan lingkungan belajar yang berpusat pada murid.
B6: KLIK SKOR | H6: INDIKATOR | J6: TINGKAT KOMPETENSI | R6: BUKTI FISIK / INDIKATOR YANG TERIDENTIFIKASI
B7: 0 | C7: 1 | D7: 2 | E7: 3 | F7: 4
G8: 1. Mengembangkan dan merawat lingkungan sekolah yang nyaman dan aman bagi warga sekolah. | J8: =IF(L8<1.5,"Berkembang",IF(L8<2.5,"Layak",IF(L8<3.5,"Cakap",IF(L8<=4,"Mahir","")))) -> Mahir | L8: =SUM(M8:M11)/N8*4 -> 3.5 | M8: =S8-1 -> 4 | N8: =COUNTA(G8:G11)*4 -> 16 | Q8: 1. | R8: Lingkungan sekolah yang bersih, tertata rapih, aman dan nyaman. (Program Adiwiyata, Sekolah Sehat, Sekolah Ramah Anak, dll) | S8: 5
G9: 2. Mengembangkan komunikasi dan interaksi warga sekolah yang saling percaya dan peduli. | M9: =S9-1 -> 4 | Q9: 2. | R9: Rapat Koordinasi Guru dan Tendik serta Komite sekolah secara periodik. | S9: 5
G10: 3. Memfasilitasi masukan dan aspirasi murid dalam penyusunan kebijakan pegembangan lingkungan belajar dan pelaksanaan praktik belajar. | M10: =S10-1 -> 3 | Q10: 3. | R10: Rapat Koordinasi Guru dan Tendik serta Komite sekolah secara periodik. | S10: 4
G11: 4. Memastikan guru melibatkan murid dalam membangun lingkungan belajar yang kondusif. | M11: =S11-1 -> 3 | Q11: 4. | R11: Pengawasan dan Evaluasi kegiatan guru dan tendik secara periodik | S11: 4
B12: =J6&"" -> TINGKAT KOMPETENSI
B13: Berkembang | G13: Layak | H13: Cakap | I13: Mahir | J13: SKOR
B14: =IF(J8="Berkembang","v","") | G14: =IF(J8="Layak","v","") | H14: =IF(J8="Cakap","v","") | I14: =IF(J8="Mahir","v","") -> v | J14: =IF(J8="Berkembang",1,IF(J8="Layak",2,IF(J8="Cakap",3,IF(J8="Mahir",4,"")))) -> 4 | L14: A1 | M14: =IF(COUNTA(B14)=1,1,0) -> 1 | N14: =IF(COUNTA(G14)=1,2,0) -> 2 | O14: =IF(COUNTA(H14)=1,3,0) -> 3 | P14: =IF(COUNTA(I14)=1,4,0) -> 4
B15: Mengajak guru untuk mengembangkan kelas sebagai sistem sosial yang mewujudkan merdeka belajar. | G15: Melibatkan seluruh warga sekolah untuk berpartisipasi dalam mewujudkan lingkungan belajar yang aman dan nyaman bagi aktivitas murid dan guru sehingga senantiasa terwujud merdeka belajar. | H15: Memastikan dan membangun komunikasi serta interaksi persuasif seluruh warga sekolah dalam berpartisipasi mewujudkan lingkungan sekolah yang kondusif, aman, dan nyaman bagi aktivitas murid dan guru sehingga senantiasa terwujud merdeka belajar. | I15: Mengembangkan sistem yang memastikan masukan dan aspirasi murid sebagai pertimbangan dalam penyusunan kebijakan dan praktik belajar pada level kelas dan sekolah dengan dukungan dari warga sekolah yang lain untuk mewujudkan lingkungan belajar yang kondusif, aman, dan nyaman bagi aktivitas murid dan guru sehingga senantiasa terwujud merdeka belajar.
B17: Kompetensi:
B18: 2.2 Memimpin perencanaan dan pelaksanaan proses belajar yang berpusat pada murid.
B19: KLIK SKOR | H19: INDIKATOR | J19: TINGKAT KOMPETENSI | R19: BUKTI FISIK / INDIKATOR YANG TERIDENTIFIKASI
B20: 0 | C20: 1 | D20: 2 | E20: 3 | F20: 4
G21: 1. Memimpin pertemuan guru untuk merencanakan proses belajar yang berpusat pada murid. | J21: =IF(L21<1.5,"Berkembang",IF(L21<2.5,"Layak",IF(L21<3.5,"Cakap",IF(L21<=4,"Mahir","")))) -> Mahir | L21: =SUM(M21:M24)/N21*4 -> 3.5 | M21: =S21-1 -> 3 | N21: =COUNTA(G21:G24)*4 -> 16 | Q21: 1. | R21: Daftar hadir dan notulen Rapat secara periodik dengan guru dan tendik. | S21: 4
G22: 2. Memberi umpan balik terhadap perencanaan dan pelaksanaan proses belajar sebagai dasar bagi guru melakukan perbaikan. | M22: =S22-1 -> 3 | Q22: 2. | R22: Adanya reward dan atau punishment (teguran) bagi guru yang berprilaku baik dan negatif | S22: 4
G23: 3. Menunjukkan praktik pembelajaran yang berpusat pada murid sebagai teladan bagi guru. | M23: =S23-1 -> 4 | Q23: 3. | R23: Supervisi Akademik Guru melalui model pelaksanaan pembelajaran (program, pelaksanaan, evaluasi, tindak lanjut) | S23: 5
G24: 4. Menyediakan dukungan agar guru fokus dalam melaksanakan proses belajar yang berpusat pada murid. | M24: =S24-1 -> 4 | Q24: 4. | R24: Memfasilitasi sekolah dengan melengkapi sarana dan prasarana sesuai kemampuan sekolah (acuan Permen tentang Standar Sarpras) | S24: 5
B25: =J19&"" -> TINGKAT KOMPETENSI
B26: Berkembang | G26: Layak | H26: Cakap | I26: Mahir | J26: SKOR
B27: =IF(J21="Berkembang","v","") | G27: =IF(J21="Layak","v","") | H27: =IF(J21="Cakap","v","") | I27: =IF(J21="Mahir","v","") -> v | J27: =IF(J21="Berkembang",1,IF(J21="Layak",2,IF(J21="Cakap",3,IF(J21="Mahir",4,"")))) -> 4 | L27: A1 | M27: =IF(COUNTA(B27)=1,1,0) -> 1 | N27: =IF(COUNTA(G27)=1,2,0) -> 2 | O27: =IF(COUNTA(H27)=1,3,0) -> 3 | P27: =IF(COUNTA(I27)=1,4,0) -> 4
B28: Mengadakan pertemuan untuk melakukan perbaikan perencanaan dan peningkatan praktik pembelajaran untuk menumbuhkan kegemaran belajar setiap murid. | G28: Mengadakan dan memandu pertemuan untuk membantu guru dalam melakukan refleksi untuk memperbaiki aktivitas belajar yang berpusat pada murid dan bermakna bagi setiap murid. | H28: Menumbuhkan kebiasaan berdiskusi aktif untuk membantu guru dalam melakukan refleksi untuk memperbaiki aktivitas belajar yang berpusat pada murid dan bermakna bagi setiap murid berdasarkan praktik baik pembelajaran dan data dari asesmen proses dan hasil belajar. | I28: Mengembangkan mekanisme yang digunakan untuk membantu guru mendapatkan dukungan dari guru lain atau manajemen sekolah dalam meningkatkan kualitas pembelajaran yang berpusat pada murid berdasarkan praktik baik pembelajaran dan data dari asesmen proses dan hasil belajar.
B31: Kompetensi:
B32: 2.3 Memimpin refleksi dan perbaikan kualitas proses belajar yang berpusat pada murid.
B33: KLIK SKOR | H33: INDIKATOR | J33: TINGKAT KOMPETENSI | R33: BUKTI FISIK / INDIKATOR YANG TERIDENTIFIKASI
B34: 0 | C34: 1 | D34: 2 | E34: 3 | F34: 4
G35: 1. Mengoordinasi pengumpulan dan pengolahan data terkait proses dan hasil belajar murid. | J35: =IF(L35<1.5,"Berkembang",IF(L35<2.5,"Layak",IF(L35<3.5,"Cakap",IF(L35<=4,"Mahir","")))) -> Mahir | L35: =SUM(M35:M38)/N35*4 -> 3.5 | M35: =S35-1 -> 3 | N35: =COUNTA(G35:G38)*4 -> 16 | Q35: 1. | R35: Adanya Admin / operator sekolah khusus bidang akademik | S35: 4
G36: 2. Mengoordinasi evaluasi praktik pembelajaran berdasarkan data terkait proses dan hasil belajar murid. | M36: =S36-1 -> 3 | Q36: 2. | R36: Adanya Admin / operator sekolah khusus bidang akademik | S36: 4
G37: 3. Memimpin pertemuan refleksi secara berkala untuk perbaikan kualitas proses belajar. | M37: =S37-1 -> 4 | Q37: 3. | R37: Rapat koordinasi secara periodik khusus terkait hasil belajar siswa. | S37: 5
G38: 4. Membimbing guru untuk melakukan perbaikan kualitas proses belajar berdasarkan hasil dari refleksi. | M38: =S38-1 -> 4 | Q38: 4. | R38: Tindak lanjut hasil supervisi dan berbagi pengalaman dengan guru. | S38: 5
B39: =J33&"" -> TINGKAT KOMPETENSI
B40: Berkembang | G40: Layak | H40: Cakap | I40: Mahir | J40: SKOR
B41: =IF(J35="Berkembang","v","") | G41: =IF(J35="Layak","v","") | H41: =IF(J35="Cakap","v","") | I41: =IF(J35="Mahir","v","") -> v | J41: =IF(J35="Berkembang",1,IF(J35="Layak",2,IF(J35="Cakap",3,IF(J35="Mahir",4,"")))) -> 4 | L41: A1 | M41: =IF(COUNTA(B41)=1,1,0) -> 1 | N41: =IF(COUNTA(G41)=1,2,0) -> 2 | O41: =IF(COUNTA(H41)=1,3,0) -> 3 | P41: =IF(COUNTA(I41)=1,4,0) -> 4
B42: Memimpin pertemuan refleksi secara berkala yang melibatkan semua guru untuk perbaikan kualitas proses belajar. | G42: Memimpin pertemuan refleksi secara berkala yang melibatkan semua guru berdasarkan analisis data yang menghasilkan inisiatif untuk perbaikan kualitas proses belajar yang terukur. | H42: Memimpin pertemuan refleksi secara berkala yang melibatkan semua guru berdasarkan analisis data yang menghasilkan inisiatif kolaboratif untukperbaikan kualitas proses belajar yang terukur. | I42: Mengembangkan mekanisme refleksi secara berkala yang melibatkan semua guru berdasarkan analisis data yang menghasilkan inisiatif kolaboratif untuk perbaikan kualitas proses belajar yang terukur.
B44: Kompetensi:
B45: 2.4 Melibatkan orang tua/wali murid sebagai pendamping dan sumber belajar di sekolah.
B46: KLIK SKOR | H46: INDIKATOR | J46: TINGKAT KOMPETENSI | R46: BUKTI FISIK / INDIKATOR YANG TERIDENTIFIKASI
...

Sheet Kompetensi 3
B3: 3. KEPEMIMPINAN MANAJEMEN SEKOLAH
B4: Kompetensi:
B5: 3.1 Mengembangkan dan mewujudkan visi sekolah yang berorientasi pada murid.
B6: KLIK SKOR | G6: INDIKATOR | J6: TINGKAT KOMPETENSI | R6: BUKTI FISIK / INDIKATOR YANG TERIDENTIFIKASI
B7: 0 | C7: 1 | D7: 2 | E7: 3 | F7: 4
G8: 1. Memfasilitasi keikutsertaan warga sekolah dalam penyusunan visi dan misi sekolah serta programnya. | J8: =IF(L8=0,"",IF(L8<=1.5,"Berkembang",IF(L8<=2.5,"Layak",IF(L8<=3.5,"Cakap",IF(L8<=4,"Mahir",""))))) -> Mahir | L8: =SUM(M8:M12)/N8*4 -> 3.6 | M8: =S8-1 -> 4 | N8: =COUNTA(G8:G12)*4 -> 20 | Q8: 1. | R8: Notulen daftar hadir kegiatan evaluasi penyusunan Visi misi sekolah. | S8: 5
G9: 2. Menumbuhkan budaya belajar warga sekolah yang berorientasi pada murid untuk mewujudkan visi dan misi sekolah. | M9: =S9-1 -> 4 | Q9: 2. | R9: Terlihat adanya budaya sekolah dalam keseharian yang telah terbentuk. | S9: 5
G10: 3. Mengomunikasikan visi dan misi sekolah dengan menggunakan basis bukti dan data melalui berbagai media. | M10: =S10-1 -> 4 | Q10: 3. | R10: Terpasangnya poster visi-misi sekolah di beberapa tempat di lingkungan sekolah. | S10: 5
G11: 4. Memberi kesempatan pada warga sekolah untuk mencoba pendekatan baru secara interaktif dan reflektif sesuai perannya dalam mewujudkan visi dan misi sekolah. | M11: =S11-1 -> 3 | Q11: 4. | R11: Memfasilitasi pondok baca dan atau Majalah Dinding di sekitar dalam lingkungan sekolah. | S11: 4
G12: 5. Mengevaluasi implementasi program secara berkala untuk mewujudkan visi dan misi sekolah. | M12: =S12-1 -> 3 | Q12: 5. | R12: Notulen daftar hadir kegiatan evaluasi penyusunan Visi misi sekolah, supervisi/pengawasan manajerial. | S12: 4
B13: =J6&"" -> TINGKAT KOMPETENSI
B14: Berkembang | G14: Layak | H14: Cakap | I14: Mahir | J14: SKOR
B15: =IF(J8="Berkembang","v","") | G15: =IF(J8="Layak","v","") | H15: =IF(J8="Cakap","v","") | I15: =IF(J8="Mahir","v","") -> v | J15: =IF(J8="Berkembang",1,IF(J8="Layak",2,IF(J8="Cakap",3,IF(J8="Mahir",4,"")))) -> 4 | L15: A1 | M15: =IF(COUNTA(B15)=1,1,0) -> 1 | N15: =IF(COUNTA(G15)=1,2,0) -> 2 | O15: =IF(COUNTA(H15)=1,3,0) -> 3 | P15: =IF(COUNTA(I15)=1,4,0) -> 4
B16: Memfasilitasi keikutsertaan warga sekolah dalam menyusun visi dan misi sekolah serta programnya. | G16: Memfasilitasi keikutsertaan warga sekolah dalam menyusun visi dan misi sekolah yang menumbuhkan budaya belajar yang berorientasi pada murid serta mengomunikasi-kannya berbasis bukti dan data melalui berbagai media. | H16: Memfasilitasi keikutsertaan warga sekolah dalam menyusun, mengomunikasikan, dan mewujudkan visi dan misi sekolah dengan pendekatan baru secara iteratif dan reflektif sesuai dengan perannya, serta mengevaluasi implementasi program secara berkala untuk mewujudkan visi dan misi sekolah. | I16: Membangun mekanisme dalam memfasilitasi keikutsertaan warga sekolah dalam menyusun, mengomunikasikan, dan mewujudkan visi dan misi sekolah dengan pendekatan baru secara interaktif dan reflektif sesuai dengan perannya, serta mengevaluasi implementasi program secara berkala untuk mewujudkan visi dan misi sekolah.
B17: Kompetensi:
B18: 3.2 Memimpin dan mengelola program sekolah yang berdampak pada murid.
B19: KLIK SKOR | G19: INDIKATOR | J19: TINGKAT KOMPETENSI | R19: BUKTI FISIK / INDIKATOR YANG TERIDENTIFIKASI
B20: 0 | C20: 1 | D20: 2 | E20: 3 | F20: 4
G21: 1. Menyusun program prioritas dalam merancang program yang sesuai dengan visi dan misi sekolah, realistis, dan berorientasi pada murid. | J21: =IF(L21=0,"",IF(L21<=1.5,"Berkembang",IF(L21<=2.5,"Layak",IF(L21<=3.5,"Cakap",IF(L21<=4,"Mahir",""))))) -> Mahir | L21: =SUM(M21:M27)/N21*4 -> 3.5714286 | M21: =S21-1 -> 4 | N21: =COUNTA(G21:G27)*4 -> 28 | Q21: 1. | R21: Analisis kebutuhan program kerja priortas sekolah dalam bentuk laporan PBD Rapor Pendidikan. | S21: 5
G22: 2. Mendapatkan sumber daya yang sesuai dan dapat dipertanggungjawabkan untuk melaksanakan program sekolah. | M22: =S22-1 -> 4 | Q22: 2. | R22: Pembagian tugas guru dan karyawan, penempatan staff pimpinan sekolah yang sesuai dengan kompetensinya, pengawasan SDM. | S22: 5
G23: 3. Memberdayakan sumber daya sekolah yang tersedia secara efektif dan efisien untuk meningkatkan kualitas belajar. | M23: =S23-1 -> 4 | Q23: 3. | R23: Memfasilitasi kebutuhan dan sumber daya sekolah sesuai kemampuan dan kebutuhan prioritas, pemenuhan 8 SNP (IHT, Workshop, Diklat, FGD, dll) | S23: 5
G24: 4. Menunjukkan praktik baik pelaksanaan program sekolah yang berdampak pada murid. | M24: =S24-1 -> 4 | Q24: 4. | R24: Adanya prestasi siswa baik akademik dan atau non akademik. | S24: 5
G25: 5. Mengarahkan warga sekolah untuk menjalankan program dengan menjelaskan keterkaitan program dengan visi dan misi sekolah. | M25: =S25-1 -> 4 | Q25: 5. | R25: Analisis kebutuhan program kerja priortas sekolah dalam bentuk laporan PBD Rapor Pendidikan. | S25: 5
G26: 6. Memantau dan memberi umpan balik untuk memotivasi warga sekolah dalam menjalankan program yang berdampak pada murid. | M26: =S26-1 -> 3 | Q26: 6. | R26: Umpan balik atas capaian program dalam bentuk EDS atau capaian keterlaksanaan progam kerja sekolah. | S26: 4
G27: 7. Memandu pertemuan secara berkala untuk merefleksikan dan memperbaiki pelaksanaan program sekolah agar lebih berdampak pada murid. | M27: =S27-1 -> 2 | Q27: 7. | R27: Notulen dafhad kegiatan Evaluasi Ketercapaian Program Kerja Sekolah. | S27: 3
B28: =J19&"" -> TINGKAT KOMPETENSI
B29: Berkembang | G29: Layak | H29: Cakap | I29: Mahir | J29: SKOR
B30: =IF(J21="Berkembang","v","") | G30: =IF(J21="Layak","v","") | H30: =IF(J21="Cakap","v","") | I30: =IF(J21="Mahir","v","") -> v | J30: =IF(J21="Berkembang",1,IF(J21="Layak",2,IF(J21="Cakap",3,IF(J21="Mahir",4,"")))) -> 4 | L30: A1 | M30: =IF(COUNTA(B30)=1,1,0) -> 1 | N30: =IF(COUNTA(G30)=1,2,0) -> 2 | O30: =IF(COUNTA(H30)=1,3,0) -> 3 | P30: =IF(COUNTA(I30)=1,4,0) -> 4
B31: Menyusun program sekolah dan memantau keterlaksanaannya agar berjalan sesuai dengan rencana program dan visi dan misi sekolah. | G31: Mengorganisasi warga sekolah dalam menyusun program sekolah dan memberdayakan sumber daya yang tersedia untuk melaksanakan program sekolah secara efektif dan efisien. | H31: Mengorganisasi warga sekolah dalam melaksanakan program sekolah dengan menunjukkan praktik baik, memantau, memberi umpan balik, dan memandu pertemuan secara berkala untuk memperbaiki pelaksanaan program sekolah agar lebih berdampak pada murid. | I31: Mengembangkan mekanisme untuk mengorganisasi warga sekolah dalam melaksanakan program sekolah dengan menunjukkan praktik baik, memantau, memberi umpan balik, dan memandu pertemuan secara berkala untuk memperbaiki pelaksanaan program sekolah agar lebih berdampak pada murid.

Sheet Kompetensi 4
B3: 4. KEPEMIMPINAN PENGEMBANGAN SEKOLAH
B4: Kompetensi:
B5: 4.1 Memimpin program pengembangan sekolah untuk mengoptimalkan proses belajar murid dan mendukung kebutuhan masyarakat sekitar sekolah yang relevan.
B6: KLIK SKOR | G6: INDIKATOR | J6: TINGKAT KOMPETENSI | R6: BUKTI FISIK / INDIKATOR YANG TERIDENTIFIKASI
B7: 0 | C7: 1 | D7: 2 | E7: 3 | F7: 4
G8: 1. Melakukan evaluasi diri sekolah yang melibatkan warga sekolah dengan berbasis data dan bukti. | J8: =IF(L8<1.5,"Berkembang",IF(L8<2.5,"Layak",IF(L8<3.5,"Cakap",IF(L8<=4,"Mahir","")))) -> Mahir | L8: =SUM(M8:M13)/N8*4 -> 3.6666667 | M8: =S8-1 -> 3 | N8: =COUNTA(G8:G13)*4 -> 24 | Q8: 1. | R8: Adanya kegiatan PBD Rapor Pendidikan dan sinkronisasi kurikulum (Dokumen, Notulen, dafhad). | S8: 4
G9: 2. Menentukan prioritas, merancang, dan melaksanakan program pengembangan sekolah dengan mengacu pada kebutuhan murid, ketersediaan sumber daya, serta visi dan misi sekolah. | M9: =S9-1 -> 4 | Q9: 2. | R9: Adanya kegiatan PBD Rapor Pendidikan dan sinkronisasi kurikulum (Dokumen, Notulen, dafhad). | S9: 5
G10: 3. Menginisiasi program pengembangan sekolah dalam lingkup terbatas untuk mendapatkan bukti keberhasilan sebelum diterapkan pada lingkup yang lebih luas. | M10: =S10-1 -> 4 | Q10: 3. | R10: Adanya kegiatan PBD Rapor Pendidikan dan sinkronisasi kurikulum (Dokumen, Notulen, dafhad). | S10: 5
G11: 4. Mengimplementasikan pendekatan inovatif untuk meningkatkan efektivitas dan efisiensi program pengembangan sekolah. | M11: =S11-1 -> 3 | Q11: 4. | R11: Adanya kegiatan PBD Rapor Pendidikan dan sinkronisasi kurikulum (Dokumen, Notulen, dafhad). | S11: 4
G12: 5. Mengorganisasi proses pengembangan sekolah untuk memastikan peningkatan kualitas proses belajar yang berdampak pada murid. | M12: =S12-1 -> 4 | Q12: 5. | R12: Adanya kegiatan PBD Rapor Pendidikan dan sinkronisasi kurikulum (Dokumen, Notulen, dafhad). | S12: 5
G13: 6. Mewujudkan peran sekolah untuk mendukung kebutuhan masyarakat sekitar sekolah yang relevan. | M13: =S13-1 -> 4 | Q13: 6. | R13: Adanya kegiatan PBD Rapor Pendidikan dan sinkronisasi kurikulum (Dokumen, Notulen, dafhad). | S13: 5
B14: =J6&"" -> TINGKAT KOMPETENSI
B15: Berkembang | G15: Layak | H15: Cakap | I15: Mahir | J15: SKOR
B16: =IF(J8="Berkembang","v","") | G16: =IF(J8="Layak","v","") | H16: =IF(J8="Cakap","v","") | I16: =IF(J8="Mahir","v","") -> v | J16: =IF(J8="Berkembang",1,IF(J8="Layak",2,IF(J8="Cakap",3,IF(J8="Mahir",4,"")))) -> 4 | L16: A1 | M16: =IF(COUNTA(B16)=1,1,0) -> 1 | N16: =IF(COUNTA(G16)=1,2,0) -> 2 | O16: =IF(COUNTA(H16)=1,3,0) -> 3 | P16: =IF(COUNTA(I16)=1,4,0) -> 4
B17: Merencanakan dan mengorganisasi program pengembangan sekolah secara efektif dan efisiensi. | G17: Merencanakan dan mengorganisasi program pengembangan sekolah secara efektif dan efisien untuk meningkatkan kualitas proses belajar yang berdampak pada murid. | H17: Melibatkan warga sekolah dalam proses pengembangan sekolah yang berpendekatan inovatif, yang efektif dan efisien untuk meningkatkan kualitas proses belajar yang berdampak pada murid serta mendukung kebutuhan masyarakat sekitar sekolah yang relevan. | I17: Membangun mekanisme untuk memfasilitasi proses pengembangan sekolah yang berpendekatan inovatif, yang efektif dan efisien untuk meningkatkan kualitas proses belajar yang berdampak pada murid serta mendukung kebutuhan masyarakat sekitar sekolah yang relevan.
B19: Kompetensi:
B20: 4.2 Melibatkan orang tua/wali murid dan masyarakat dalam pengembangan sekolah.
B21: KLIK SKOR | G21: INDIKATOR | J21: TINGKAT KOMPETENSI | R21: BUKTI FISIK / INDIKATOR YANG TERIDENTIFIKASI
B22: 0 | C22: 1 | D22: 2 | E22: 3 | F22: 4
G23: 1. Mengomunikasikan pentingnya pengembangan sekolah untuk peningkatan kualitas belajar murid kepada orang tua/wali murid dan masyarakat. | J23: =IF(L23<1.5,"Berkembang",IF(L23<2.5,"Layak",IF(L23<3.5,"Cakap",IF(L23<=4,"Mahir","")))) -> Mahir | L23: =SUM(M23:M25)/N23*4 -> 4 | M23: =S23-1 -> 4 | N23: =COUNTA(G23:G25)*4 -> 12 | Q23: 1. | R23: Adanya koordinasi dan atau sosialisasi program kerja bersama dengan melibatkan Komite Sekolah (Notulen, dafhad) | S23: 5
G24: 2. Menyediakan kesempatan bagi orang tua/wali murid dan masyarakat untuk mengambil peran dalam pengembangan sekolah. | M24: =S24-1 -> 4 | Q24: 2. | R24: Memfasilitasi dan memberi kesempatan kepada komite sekolah / wali murid dalam pengembangan program yang ada di sekolah. | S24: 5
G25: 3. Mengomunikasikan dampak hasil pengembangan sekolah pada peningkatan kualitas belajar murid kepada orang tua/wali murid dan masyarakat. | M25: =S25-1 -> 4 | Q25: 3. | R25: Adanya sosialiasi hasil capaian pengembangan program kerja sekolah kepada komite sekolah / wali murid secara periodik dan atau insidental | S25: 5
I26: =J21&"" -> TINGKAT KOMPETENSI
B27: Berkembang | G27: Layak | H27: Cakap | I27: Mahir | J27: SKOR
B28: =IF(J23="Berkembang","v","") | G28: =IF(J23="Layak","v","") | H28: =IF(J23="Cakap","v","") | I28: =IF(J23="Mahir","v","") -> v | J28: =IF(J23="Berkembang",1,IF(J23="Layak",2,IF(J23="Cakap",3,IF(J23="Mahir",4,"")))) -> 4 | L28: A1 | M28: =IF(COUNTA(B28)=1,1,0) -> 1 | N28: =IF(COUNTA(G28)=1,2,0) -> 2 | O28: =IF(COUNTA(H28)=1,3,0) -> 3 | P28: =IF(COUNTA(I28)=1,4,0) -> 4
B29: Mengomunikasikan dan meminta masukan dari orang tua/wali murid dan masyarakat terkait dampak hasil pengembangan sekolah pada peningkatan kualitas belajar murid. | G29: Mengomunikasikan dengan menggunakan berbagai strategi komunikasi yang mendorong keterlibatan orang tua/wali murid dan masyarakat dalam pengembangan sekolah yang berdampak pada peningkatan kualitas belajar murid. | H29: Mengomunikasikan hasil pengembangan sekolah serta menyediakan kesempatan bagi orang tua/wali murid dan masyarakat untuk mengambil peran dalam program pengembangan sekolah yang berdampak pada peningkatan kualitas belajar murid. | I29: Membangun mekanisme yang memfasilitasi komunikasi hasil pengembangan sekolah dan penyediaan kesempatan bagi orang tua/wali murid dan masyarakat untuk mengambil peran dalam program pengembangan sekolah yang berdampak pada peningkatan kualitas belajar murid.

Sheet Rekapitulasi
B2: REKAPITULASI HASIL PENILAIAN
B3: PENGEMBANGAN KOMPETENSI PROFESIONAL KEPALA SEKOLAH
B5: a. | C5: Nama KS yang dinilai | D5: : | E5: =Identitas!E4&"" -> Jumadi, S.Pd., M.Pd
C6: N I P | D6: : | E6: =Identitas!E5&"" -> 196603061988061001
C7: Tempat / Tgl Lahir | D7: : | E7: =Identitas!E7 -> Boyolali, 6 Maret 1966
C8: Pangkat / Gol. | D8: : | E8: =Identitas!E8&" / "&Identitas!F8&" / "&Identitas!G8&"" -> Pembina Tk I / IV b /
C9: Jabatan | D9: : | E9: =Identitas!E9 -> Kepala Sekolah
C10: Masa Kerja | D10: : | E10: =Identitas!E10 -> 35 th, 5 bln
C11: Jenis Kelamin | D11: : | E11: =Identitas!E11 -> Laki-laki
C12: Pend. Terakhir | D12: : | E12: =Identitas!E12 -> S 2
C13: Spesialisasi | D13: : | E13: =Identitas!E13 -> Guru Mapel
B15: b. | C15: Nama Instansi/Sklh. | D15: : | E15: =Identitas!E17&"" -> SMA Negeri Cilacap
C16: Telepon / Fax | D16: : | E16: =Identitas!E18&"" -> -
C17: Kelurahan | D17: : | E17: =Identitas!E19&"" -> Jl. Ngadenan 549, Cilacap
C18: Kecamatan | D18: : | E18: =Identitas!E20&"" -> Simo
C19: ='[1]00-DATA'!C31&"" -> #REF! | D19: : | E19: =Identitas!E21&"" -> Cilacap
C20: Provinsi | D20: : | E20: =Identitas!E22&"" -> Jawa Tengah
C22: Periode Penilaian | F22: Jenis Penilaian | H22: Tanggal
C23: =Identitas!C41&"" -> 01 Januari 2023 | D23: s.d. | E23: =Identitas!E41&"" -> 31 Desember 2023 | F23: =IF(Identitas!G41=1,"Formatif",IF(Identitas!G41=2,"Sumatif","Kemajuan")) -> Sumatif | H23: =Identitas!H41&"" -> 10 Desember 2023
B25: NO | C25: KOMPETENSI KEPEMIMPINAN | G25: TINGKAT KOMPETENSI | H25: SKOR
B26: A. | C26: ='[1]KOMP-1'!B3&"" -> #REF!
B27: 1 | C27: ='[1]KOMP-1'!B5&"" -> #REF! | G27: =IF(H27<1.5,"Berkembang",IF(H27<2.5,"Layak",IF(H27<3.5,"Cakap",IF(H27<=4,"Mahir","")))) -> Cakap | H27: ='Kompetensi 1'!L8 -> 2.5
B28: 2 | C28: ='[1]KOMP-1'!B17&"" -> #REF! | G28: =IF(H28<1.5,"Berkembang",IF(H28<2.5,"Layak",IF(H28<3.5,"Cakap",IF(H28<=4,"Mahir","")))) -> Mahir | H28: ='Kompetensi 1'!L21 -> 3.8
B29: 3 | C29: ='[1]KOMP-1'!B30&"" -> #REF! | G29: =IF(H29<1.5,"Berkembang",IF(H29<2.5,"Layak",IF(H29<3.5,"Cakap",IF(H29<=4,"Mahir","")))) -> Mahir | H29: ='Kompetensi 1'!L35 -> 3.6
B30: 4 | C30: ='[1]KOMP-1'!B43&"" -> #REF! | G30: =IF(H30<1.5,"Berkembang",IF(H30<2.5,"Layak",IF(H30<3.5,"Cakap",IF(H30<=4,"Mahir","")))) -> Mahir | H30: ='Kompetensi 1'!L49 -> 3.6
B31: B. | C31: ='[1]KOMP (2)'!B3&"" -> #REF!
B32: 5 | C32: ='[1]KOMP (2)'!B5&"" -> #REF! | G32: =IF(H32<1.5,"Berkembang",IF(H32<2.5,"Layak",IF(H32<3.5,"Cakap",IF(H32<=4,"Mahir","")))) -> Mahir | H32: ='Kompetensi 2'!L8 -> 3.5
B33: 6 | C33: ='[1]KOMP (2)'!B17&"" -> #REF! | G33: =IF(H33<1.5,"Berkembang",IF(H33<2.5,"Layak",IF(H33<3.5,"Cakap",IF(H33<=4,"Mahir","")))) -> Mahir | H33: ='Kompetensi 2'!L21 -> 3.5
B34: 7 | C34: ='[1]KOMP (2)'!B30&"" -> #REF! | G34: =IF(H34<1.5,"Berkembang",IF(H34<2.5,"Layak",IF(H34<3.5,"Cakap",IF(H34<=4,"Mahir","")))) -> Mahir | H34: ='Kompetensi 2'!L35 -> 3.5
B35: 8 | C35: ='[1]KOMP (2)'!B42&"" -> #REF! | G35: =IF(H35<1.5,"Berkembang",IF(H35<2.5,"Layak",IF(H35<3.5,"Cakap",IF(H35<=4,"Mahir","")))) -> Mahir | H35: ='Kompetensi 2'!L48 -> 3.5
B36: C. | C36: ='[1]KOMP (3)'!B3&"" -> #REF!
B37: 9 | C37: ='[1]KOMP (3)'!B5&"" -> #REF! | G37: =IF(H37<1.5,"Berkembang",IF(H37<2.5,"Layak",IF(H37<3.5,"Cakap",IF(H37<=4,"Mahir","")))) -> Mahir | H37: ='Kompetensi 3'!L8 -> 3.6
B38: 10 | C38: ='[1]KOMP (3)'!B17&"" -> #REF! | G38: =IF(H38<1.5,"Berkembang",IF(H38<2.5,"Layak",IF(H38<3.5,"Cakap",IF(H38<=4,"Mahir","")))) -> Mahir | H38: ='Kompetensi 3'!L21 -> 3.5714286
B39: D. | C39: ='[1]KOMP (4)'!B3&"" -> #REF!
B40: 11 | C40: ='[1]KOMP (4)'!B5&"" -> #REF! | G40: =IF(H40<1.5,"Berkembang",IF(H40<2.5,"Layak",IF(H40<3.5,"Cakap",IF(H40<=4,"Mahir","")))) -> Mahir | H40: ='Kompetensi 4'!L8 -> 3.6666667
B41: 12 | C41: ='[1]KOMP (4)'!B19&"" -> #REF! | G41: =IF(H41<1.5,"Berkembang",IF(H41<2.5,"Layak",IF(H41<3.5,"Cakap",IF(H41<=4,"Mahir","")))) -> Mahir | H41: ='Kompetensi 4'!L23 -> 4
B42: Jumlah (Hasil Penilaian Kompetensi Profesional Kepala Sekolah) | H42: =SUM(H27:H41) -> 42.338095
B43: Hasil Penilaian Profesional KS (Skala 100) : (Skor/48) x 100 | F43: =IF(H43=0,"",IF(H43<56,"Kurang",IF(H43<76,"Cukup",IF(H43<91,"Baik",IF(H43<=100,"Amat Baik",""))))) -> Baik | G43: =IF(H43<56,"Berkembang",IF(H43<76,"Layak",IF(H43<90.5,"Cakap",IF(H43<=100,"Mahir","")))) -> Cakap | H43: =H42/(48)*100 -> 88.204365
B44: *) Nilai diisi berdasarkan laporan dan evaluasi PK Guru/KS. Nilai minimum per kompetensi = 0 dan nilai maksimum = 4
C45: Mengetahui | G45: =Identitas!E21&", " -> Cilacap, | H45: =Identitas!H41&"" -> 10 Desember 2023
...

Sheet Penilaian Siswa
C2: PENILAIAN KEPALA SEKOLAH / PENDIDIK OLEH PESERTA DIDIK
C4: Nama | D4: : | E4: ='Penilaian Guru'!E4&"" -> Jumadi, S.Pd., M.Pd | X4: Observer | AA4: : | AB4: ='Penilaian Guru'!AB4&"" -> Yulianto Harsono, S.Pd.,M.Si
C5: NIP | D5: : | E5: ='Penilaian Guru'!E5&"" -> 196603061988061001 | X5: NIP | AA5: : | AB5: ='Penilaian Guru'!AB5&"" -> 196907041994121001
C6: Tugas Pokok | D6: : | E6: =[1]SEJAWAT!E6&"" -> #REF! | X6: Hasil Nilai | AA6: : | AB6: =AL27 -> 91.333333
B7: No | C7: Komponen | D7: Pernyataan | F7: Penilai | H7: 1 | I7: Penilai | K7: 2 | L7: Penilai | N7: 3 | O7: Penilai | Q7: 4 | R7: Penilai | T7: 5 | U7: Penilai | W7: 6 | X7: Penilai | Z7: 7 | AA7: Penilai | AC7: 8 | AD7: Penilai | AF7: 9 | AG7: Penilai | AI7: 10
F8: 0 | G8: 1 | H8: 2 | I8: 0 | J8: 1 | K8: 2 | L8: 0 | M8: 1 | N8: 2 | O8: 0 | P8: 1 | Q8: 2 | R8: 0 | S8: 1 | T8: 2 | U8: 0 | V8: 1 | W8: 2 | X8: 0 | Y8: 1 | Z8: 2 | AA8: 0 | AB8: 1 | AC8: 2 | AD8: 0 | AE8: 1 | AF8: 2 | AG8: 0 | AH8: 1 | AI8: 2
B9: 1 | C9: Kepemimpinan kepala Sekolah | D9: 1 | E9: Kepala sekolah dapat memimpin sekolah dengan tertib dan disiplin | H9: V | K9: V | N9: V | Q9: V | T9: V | W9: V | Z9: V | AC9: V | AF9: V | AI9: V
D10: 2 | E10: Kepala sekolah dapat mewujudkan lingkungan sekolah yang nyaman untuk belajar | H10: V | K10: V | N10: V | Q10: V | T10: V | W10: V | Z10: V | AC10: V | AF10: V | AI10: V
D11: 3 | E11: Kepala sekolah dapat bekerjasama dengan guru-guru dengan kompak | H11: V | K11: V | M11: V | P11: V | T11: V | W11: V | Y11: V | AB11: V | AF11: V | AH11: V
D12: 4 | E12: Kepala sekolah dapat memotivasi siswa dan warga sekolah untuk berprestasi | H12: V | K12: V | N12: V | P12: V | T12: V | W12: V | Z12: V | AB12: V | AF12: V | AI12: V
D13: 5 | E13: Kepala sekolah memfasilitasi kegiatan dan sarana pembelajaran dengan baik | H13: V | K13: V | N13: V | Q13: V | T13: V | W13: V | Z13: V | AC13: V | AF13: V | AI13: V
B14: 2. | C14: Perilaku sehari-hari kepala sekolah | D14: 1 | E14: Kepala sekolah dapat memberi contoh perilaku yang sesuai dengan aturan | H14: V | K14: V | N14: V | Q14: V | S14: V | V14: V | Z14: V | AC14: V | AE14: V | AI14: V
D15: 2 | E15: Kepala sekolah menjalankan ibadah sesuai dengan ajaran agamanya | H15: V | K15: V | N15: V | Q15: V | S15: V | V15: V | Z15: V | AC15: V | AE15: V | AI15: V
D16: 3 | E16: Kepala sekolah berpakaian rapih sesuai dengan aturan sekolah | H16: V | K16: V | N16: V | Q16: V | T16: V | W16: V | Z16: V | AC16: V | AF16: V | AI16: V
D17: 4 | E17: Kepala sekolah menghargai perbedaan asal, suku, agama dan ras. | H17: V | K17: V | N17: V | Q17: V | T17: V | W17: V | Z17: V | AC17: V | AF17: V | AI17: V
D18: 5 | E18: Kepala sekolah memberikan tugas apabila ada guru berhalangan hadir | H18: V | K18: V | N18: V | P18: V | T18: V | W18: V | Y18: V | AB18: V | AF18: V | AH18: V
B19: 3. | C19: Hubungan sosial dengan peserta didik | D19: 1 | E19: Kepala sekolah dapat mengenal saya dan teman-teman selama di sekolah | H19: V | K19: V | N19: V | P19: V | T19: V | W19: V | Y19: V | AB19: V | AF19: V | AH19: V
D20: 2 | E20: Kepala sekolah memberi perhatian kepada saya dan teman-teman | G20: V | J20: V | N20: V | Q20: V | S20: V | V20: V | Z20: V | AC20: V | AE20: V | AI20: V
D21: 3 | E21: Kepala sekolah memelihara komunikasi yang baik dengan semua peserta didik | H21: V | K21: V | N21: V | Q21: V | T21: V | W21: V | Z21: V | AC21: V | AF21: V | AI21: V
D22: 4 | E22: Kepala sekolah mudah dihubungi pada saat diperlukan untuk diskusi | H22: V | K22: V | N22: V | Q22: V | T22: V | W22: V | Z22: V | AC22: V | AF22: V | AI22: V
D23: 5 | E23: Kepala sekolah akrab dengan saya dan teman-teman | H23: V | K23: V | N23: V | Q23: V | T23: V | W23: V | Z23: V | AC23: V | AF23: V | AI23: V
E24: Jumlah Per Skor | F24: =COUNTA(F9:F23) -> 0 | G24: =COUNTA(G9:G23) -> 1 | H24: =COUNTA(H9:H23) -> 14 | I24: =COUNTA(I9:I23) -> 0 | J24: =COUNTA(J9:J23) -> 1 | K24: =COUNTA(K9:K23) -> 14 | L24: =COUNTA(L9:L23) -> 0 | M24: =COUNTA(M9:M23) -> 1 | ... AI24: =COUNTA(AI9:AI23) -> 12
B25: Jumlah Skor | G25: =(F24*0)+(G24*1)+(H24*2) -> 29 | J25: =(I24*0)+(J24*1)+(K24*2) -> 29 | M25: =(L24*0)+(M24*1)+(N24*2) -> 29 | P25: =(O24*0)+(P24*1)+(Q24*2) -> 26 | S25: =(R24*0)+(S24*1)+(T24*2) -> 27 | V25: =(U24*0)+(V24*1)+(W24*2) -> 27 | Y25: =(X24*0)+(Y24*1)+(Z24*2) -> 27 | AB25: =(AA24*0)+(AB24*1)+(AC24*2) -> 26 | AE25: =(AD24*0)+(AE24*1)+(AF24*2) -> 27 | AH25: =(AG24*0)+(AH24*1)+(AI24*2) -> 27 | AL25: Hasil
B26: Skor Maksimum = Jumlah indikator x 2 | G26: =COUNTA($D$9:$D$23)*2 -> 30 | J26: =COUNTA($D$9:$D$23)*2 -> 30 | M26: =COUNTA($D$9:$D$23)*2 -> 30 | P26: =COUNTA($D$9:$D$23)*2 -> 30 | S26: =COUNTA($D$9:$D$23)*2 -> 30 | V26: =COUNTA($D$9:$D$23)*2 -> 30 | Y26: =COUNTA($D$9:$D$23)*2 -> 30 | AB26: =COUNTA($D$9:$D$23)*2 -> 30 | AE26: =COUNTA($D$9:$D$23)*2 -> 30 | AH26: =COUNTA($D$9:$D$23)*2 -> 30 | AL26: Akhir
B27: Nilai Kinerja= (Jumlah skor/skor maksimum) x 100 | F27: =G25/G26*100 -> 96.666667 | I27: =J25/J26*100 -> 96.666667 | L27: =M25/M26*100 -> 96.666667 | O27: =P25/P26*100 -> 86.666667 | R27: =S25/S26*100 -> 90 | U27: =V25/V26*100 -> 90 | X27: =Y25/Y26*100 -> 90 | AA27: =AB25/AB26*100 -> 86.666667 | AD27: =AE25/AE26*100 -> 90 | AG27: =AH25/AH26*100 -> 90 | AL27: =SUM(F27:AG27)/COUNTA(H7,K7,N7,Q7,T7,W7,Z7,AC7,AF7,AI7) -> 91.333333
B28: Sebutan | G28: =IF(F27<=50,"Kurang",IF(F27<=60,"Sedang",IF(F27<=75,"Cukup",IF(F27<=90,"Baik",IF(F27<=100,"Amat Baik",""))))) -> Amat Baik | J28: =IF(I27<=50,"Kurang",IF(I27<=60,"Sedang",IF(I27<=75,"Cukup",IF(I27<=90,"Baik",IF(I27<=100,"Amat Baik",""))))) -> Amat Baik | M28: =IF(L27<=50,"Kurang",IF(L27<=60,"Sedang",IF(L27<=75,"Cukup",IF(L27<=90,"Baik",IF(L27<=100,"Amat Baik",""))))) -> Amat Baik | P28: =IF(O27<=50,"Kurang",IF(O27<=60,"Sedang",IF(O27<=75,"Cukup",IF(O27<=90,"Baik",IF(O27<=100,"Amat Baik",""))))) -> Baik | S28: =IF(R27<=50,"Kurang",IF(R27<=60,"Sedang",IF(R27<=75,"Cukup",IF(R27<=90,"Baik",IF(R27<=100,"Amat Baik",""))))) -> Baik | V28: =IF(U27<=50,"Kurang",IF(U27<=60,"Sedang",IF(U27<=75,"Cukup",IF(U27<=90,"Baik",IF(U27<=100,"Amat Baik",""))))) -> Baik | Y28: =IF(X27<=50,"Kurang",IF(X27<=60,"Sedang",IF(X27<=75,"Cukup",IF(X27<=90,"Baik",IF(X27<=100,"Amat Baik",""))))) -> Baik | AB28: =IF(AA27<=50,"Kurang",IF(AA27<=60,"Sedang",IF(AA27<=75,"Cukup",IF(AA27<=90,"Baik",IF(AA27<=100,"Amat Baik",""))))) -> Baik | AE28: =IF(AD27<=50,"Kurang",IF(AD27<=60,"Sedang",IF(AD27<=75,"Cukup",IF(AD27<=90,"Baik",IF(AD27<=100,"Amat Baik",""))))) -> Baik | AH28: =IF(AG27<=50,"Kurang",IF(AG27<=60,"Sedang",IF(AG27<=75,"Cukup",IF(AG27<=90,"Baik",IF(AG27<=100,"Amat Baik",""))))) -> Baik | AL28: =IF(AL27<=50,"Kurang",IF(AL27<=60,"Sedang",IF(AL27<=75,"Cukup",IF(AL27<=90,"Baik",IF(AL27<=100,"Amat Baik",""))))) -> Amat Baik

Sheet Penilaian Guru
C2: PENILAIAN KEPALA SEKOLAH / PENDIDIK OLEH TEMAN SEJAWAT
C4: Nama | D4: : | E4: =Identitas!E4&"" -> Jumadi, S.Pd., M.Pd | X4: Observer | AA4: : | AB4: =Identitas!E24&"" -> Yulianto Harsono, S.Pd.,M.Si
C5: NIP | D5: : | E5: =Identitas!E5&"" -> 196603061988061001 | X5: NIP | AA5: : | AB5: =Identitas!E25&"" -> 196907041994121001
C6: Tugas Pokok | D6: : | E6: Kepala Sekolah | X6: Hasil Nilai | AA6: : | AB6: =AL28 -> 91.666667
B7: No | C7: Komponen | D7: Pernyataan | F7: Penilai | H7: 1 | I7: Penilai | K7: 2 | L7: Penilai | N7: 3 | O7: Penilai | Q7: 4 | R7: Penilai | T7: 5 | U7: Penilai | W7: 6 | X7: Penilai | Z7: 7 | AA7: Penilai | AC7: 8 | AD7: Penilai | AF7: 9 | AG7: Penilai | AI7: 10
F8: 0 | G8: 1 | H8: 2 | I8: 0 | J8: 1 | K8: 2 | L8: 0 | M8: 1 | N8: 2 | O8: 0 | P8: 1 | Q8: 2 | R8: 0 | S8: 1 | T8: 2 | U8: 0 | V8: 1 | W8: 2 | X8: 0 | Y8: 1 | Z8: 2 | AA8: 0 | AB8: 1 | AC8: 2 | AD8: 0 | AE8: 1 | AF8: 2 | AG8: 0 | AH8: 1 | AI8: 2
B9: 1 | C9: Perilaku Kepala sekolah sehari-hari | D9: 1 | E9: Kepala sekolah bekerja sesuai jadwal yang ditetapkan | H9: v | K9: v | N9: v | Q9: v | T9: v | W9: v | Z9: v | AC9: v | AF9: v | AI9: v
D10: 2 | E10: Kepala sekolah berpakaian rapi dan/atau sopan | H10: v | K10: v | N10: v | Q10: v | S10: v | W10: v | Z10: v | AC10: v | AE10: v | AI10: v
D11: 3 | E11: Kepala sekolah berprilaku baik terhadap saya dan Kepala sekolah lain | H11: v | K11: v | N11: v | Q11: v | R11: v | W11: v | Z11: v | AC11: v | AD11: v | AI11: v
D12: 4 | E12: Kepala sekolah bersedia menerima kritik dan saran dari saya atau guru lainnya | H12: v | J12: v | K12: v | N12: v | Q12: v | S12: v | V12: v | Z12: v | AC12: v | AE12: v | AH12: v
D13: 5 | E13: Kepala sekolah berpartisispasi aktif dalam kegiatan peningkatan prestasi sekolah | H13: v | K13: v | N13: v | Q13: v | T13: v | W13: v | Z13: v | AC13: v | AF13: v | AI13: v
B14: 2 | C14: Hubungan Kepala sekolah dengan Teman Sejawat | D14: 1 | E14: Kepala sekolah bersikap ramah kepada saya atau orang lain. | H14: v | K14: v | N14: v | P14: v | S14: v | V14: v | Z14: v | AB14: v | AE14: v | AH14: v
D15: 2 | E15: Kepala sekolah berbahasa santun kepada saya atau orang lain. | H15: v | K15: v | N15: v | Q15: v | T15: v | W15: v | Z15: v | AC15: v | AF15: v | AI15: v
D16: 3 | E16: Kepala sekolah pandai berkomunikasi secara lisan atau tertulis | H16: v | K16: v | N16: v | P16: v | T16: v | V16: v | Z16: v | AB16: v | AF16: v | AH16: v
D17: 4 | E17: Kepala sekolah bersedia diajak berdikusi tentang segala hal terkait kepentingan peserta didik dan sekolah | H17: v | K17: v | N17: v | Q17: v | T17: v | W17: v | Z17: v | AC17: v | AF17: v | AI17: v
D18: 5 | E18: Kepala sekolah bersedia membantu menyelesaikan masalah saya dan guru lainnya | H18: v | K18: v | N18: v | P18: v | S18: v | W18: v | Z18: v | AB18: v | AE18: v | AI18: v
B19: 3 | C19: Perilaku Profesional Kepala sekolah | D19: 1 | E19: Kepala sekolah memiliki pengetahuan dan keterampilan Teknologi Informasi (TI) yang memadai | H19: v | K19: v | N19: v | Q19: v | T19: v | V19: v | Z19: v | AC19: v | AF19: v | AH19: v
D20: 2 | E20: Kepala sekolah berada di sekolah tepat waktu | H20: v | K20: v | N20: v | Q20: v | T20: v | W20: v | Z20: v | AC20: v | AF20: v | AI20: v
D21: 3 | E21: Kepala sekolah keluar dari sekolah tepat waktu | H21: v | K21: v | N21: v | P21: v | T21: v | W21: v | Z21: v | AB21: v | AF21: v | AI21: v
D22: 4 | E22: Kepala sekolah memberikan tugas kepada peserta didik apa bila ada guru berhalangan hadir untuk mengajar | H22: v | K22: v | N22: v | P22: v | T22: v | W22: v | Z22: v | AB22: v | AF22: v | AI22: v
D23: 5 | E23: Kepala sekolah memperlakukan peserta didik dengan penuh kasih sayang | H23: v | K23: v | N23: v | Q23: v | T23: v | W23: v | Z23: v | AC23: v | AF23: v | AI23: v
H24: v | K24: v | N24: v | Q24: v | T24: v | W24: v | Z24: v | AC24: v | AF24: v | AI24: v
E25: Jumlah Per Skor | F25: =COUNTA(F9:F23) -> 0 | G25: =COUNTA(G9:G23) -> 0 | H25: =COUNTA(H9:H23) -> 15 | I25: =COUNTA(I9:I23) -> 0 | J25: =COUNTA(J9:J23) -> 1 | K25: =COUNTA(K9:K24) -> 16 | L25: =COUNTA(L9:L23) -> 0 | M25: =COUNTA(M9:M23) -> 0 | N25: =COUNTA(N9:N23) -> 15 | O25: =COUNTA(O9:O23) -> 0 | P25: =COUNTA(P9:P23) -> 5 | Q25: =COUNTA(Q9:Q24) -> 11 | R25: =COUNTA(R9:R23) -> 1 | S25: =COUNTA(S9:S23) -> 4 | T25: =COUNTA(T9:T23) -> 10 | U25: =COUNTA(U9:U23) -> 0 | V25: =COUNTA(V9:V23) -> 4 | W25: =COUNTA(W9:W23) -> 11 | X25: =COUNTA(X9:X23) -> 0 | Y25: =COUNTA(Y9:Y23) -> 0 | ... AI25: =COUNTA(AI9:AI23) -> 11
B26: Jumlah Skor | G26: =(F25*0)+(G25*1)+(H25*2) -> 30 | J26: =(I25*0)+(J25*1)+(K25*2) -> 33 | M26: =(L25*0)+(M25*1)+(N25*2) -> 30 | P26: =(O25*0)+(P25*1)+(Q25*2) -> 27 | S26: =(R25*0)+(S25*1)+(T25*2) -> 24 | V26: =(U25*0)+(V25*1)+(W25*2) -> 26 | Y26: =(X25*0)+(Y25*1)+(Z25*2) -> 30 | AB26: =(AA25*0)+(AB25*1)+(AC25*2) -> 25 | AE26: =(AD25*0)+(AE25*1)+(AF25*2) -> 24 | AH26: =(AG25*0)+(AH25*1)+(AI25*2) -> 26 | AL26: Hasil
B27: Skor Maksimum = Jumlah indikator x 2 | G27: =COUNTA($D$9:$D$23)*2 -> 30 | J27: =COUNTA($D$9:$D$23)*2 -> 30 | M27: =COUNTA($D$9:$D$23)*2 -> 30 | P27: =COUNTA($D$9:$D$23)*2 -> 30 | S27: =COUNTA($D$9:$D$23)*2 -> 30 | V27: =COUNTA($D$9:$D$23)*2 -> 30 | Y27: =COUNTA($D$9:$D$23)*2 -> 30 | AB27: =COUNTA($D$9:$D$23)*2 -> 30 | AE27: =COUNTA($D$9:$D$23)*2 -> 30 | AH27: =COUNTA($D$9:$D$23)*2 -> 30 | AL27: Akhir
B28: Nilai Kinerja= (Jumlah skor/skor maksimum) x 100 | F28: =G26/G27*100 -> 100 | I28: =J26/J27*100 -> 110 | L28: =M26/M27*100 -> 100 | O28: =P26/P27*100 -> 90 | R28: =S26/S27*100 -> 80 | U28: =V26/V27*100 -> 86.666667 | X28: =Y26/Y27*100 -> 100 | AA28: =AB26/AB27*100 -> 83.333333 | AD28: =AE26/AE27*100 -> 80 | AG28: =AH26/AH27*100 -> 86.666667 | AL28: =SUM(F28:AG28)/COUNTA(H7,K7,N7,Q7,T7,W7,Z7,AC7,AF7,AI7) -> 91.666667
B29: Sebutan | G29: =IF(F28<=50,"Kurang",IF(F28<=60,"Sedang",IF(F28<=75,"Cukup",IF(F28<=90,"Baik",IF(F28<=100,"Amat Baik",""))))) -> Amat Baik | J29: =IF(I28<=50,"Kurang",IF(I28<=60,"Sedang",IF(I28<=75,"Cukup",IF(I28<=90,"Baik",IF(I28<=100,"Amat Baik",""))))) | M29: =IF(L28<=50,"Kurang",IF(L28<=60,"Sedang",IF(L28<=75,"Cukup",IF(L28<=90,"Baik",IF(L28<=100,"Amat Baik",""))))) -> Amat Baik | P29: =IF(O28<=50,"Kurang",IF(O28<=60,"Sedang",IF(O28<=75,"Cukup",IF(O28<=90,"Baik",IF(O28<=100,"Amat Baik",""))))) -> Baik | S29: =IF(R28<=50,"Kurang",IF(R28<=60,"Sedang",IF(R28<=75,"Cukup",IF(R28<=90,"Baik",IF(R28<=100,"Amat Baik",""))))) -> Baik | V29: =IF(U28<=50,"Kurang",IF(U28<=60,"Sedang",IF(U28<=75,"Cukup",IF(U28<=90,"Baik",IF(U28<=100,"Amat Baik",""))))) -> Baik | Y29: =IF(X28<=50,"Kurang",IF(X28<=60,"Sedang",IF(X28<=75,"Cukup",IF(X28<=90,"Baik",IF(X28<=100,"Amat Baik",""))))) -> Amat Baik | AB29: =IF(AA28<=50,"Kurang",IF(AA28<=60,"Sedang",IF(AA28<=75,"Cukup",IF(AA28<=90,"Baik",IF(AA28<=100,"Amat Baik",""))))) -> Baik | AE29: =IF(AD28<=50,"Kurang",IF(AD28<=60,"Sedang",IF(AD28<=75,"Cukup",IF(AD28<=90,"Baik",IF(AD28<=100,"Amat Baik",""))))) -> Baik | AH29: =IF(AG28<=50,"Kurang",IF(AG28<=60,"Sedang",IF(AG28<=75,"Cukup",IF(AG28<=90,"Baik",IF(AG28<=100,"Amat Baik",""))))) -> Baik | AL29: =IF(AL28<=50,"Kurang",IF(AL28<=60,"Sedang",IF(AL28<=75,"Cukup",IF(AL28<=90,"Baik",IF(AL28<=100,"Amat Baik",""))))) -> Amat Baik

Sheet Penilaian Ortu
C2: PENILAIAN KEPALA SEKOLAH / PENDIDIK OLEH ORANG TUA / WALI / KOMITE
C4: Nama | D4: : | E4: ='Penilaian Guru'!E4&"" -> Jumadi, S.Pd., M.Pd | X4: Observer | AA4: : | AB4: ='Penilaian Guru'!AB4&"" -> Yulianto Harsono, S.Pd.,M.Si
C5: NIP | D5: : | E5: ='Penilaian Guru'!E5&"" -> 196603061988061001 | X5: NIP | AA5: : | AB5: ='Penilaian Guru'!AB5&"" -> 196907041994121001
C6: Tugas Pokok | D6: : | E6: =[1]SEJAWAT!E6&"" -> #REF! | X6: Hasil Nilai | AA6: : | AB6: =AL21 -> 95
B7: No | C7: Komponen | D7: Pernyataan | F7: Penilai | H7: 1 | I7: Penilai | K7: 2 | L7: Penilai | N7: 3 | O7: Penilai | Q7: 4 | R7: Penilai | T7: 5 | U7: Penilai | W7: 6 | X7: Penilai | Z7: 7 | AA7: Penilai | AC7: 8 | AD7: Penilai | AF7: 9 | AG7: Penilai | AI7: 10
F8: 0 | G8: 1 | H8: 2 | I8: 0 | J8: 1 | K8: 2 | L8: 0 | M8: 1 | N8: 2 | O8: 0 | P8: 1 | Q8: 2 | R8: 0 | S8: 1 | T8: 2 | U8: 0 | V8: 1 | W8: 2 | X8: 0 | Y8: 1 | Z8: 2 | AA8: 0 | AB8: 1 | AC8: 2 | AD8: 0 | AE8: 1 | AF8: 2 | AG8: 0 | AH8: 1 | AI8: 2
B9: 1 | C9: Komunikasi | D9: 1 | E9: Kepala sekolah memberitahukan perkembangan belajar putra / putri saya | H9: V | K9: V | N9: V | Q9: V | T9: V | W9: V | Z9: V | AC9: V | AF9: V | AI9: V
D10: 2 | E10: Kepala sekolah memberi kesempatan berkomunikasi dengan saya yang berkaitan dengan perilaku atau kesulitan belajar | H10: V | K10: V | N10: V | Q10: V | S10: V | W10: V | Z10: V | AC10: V | AF10: V | AI10: V
D11: 3 | E11: Kepala sekolah bekerjasama dengan orang tua untuk menyelesaikan kesulitan belajar putra / putri saya | H11: V | J11: V | N11: V | Q11: V | T11: V | W11: V | Y11: V | AC11: V | AF11: V | AH11: V
B12: 2. | C12: Kepercayaan dalam memberikan pendidikan | D12: 1 | E12: Kepala sekolah berperan sebagai orang tua bagi putra / putri saya di sekolah | H12: V | K12: V | N12: V | Q12: V | T12: V | W12: V | Z12: V | AC12: V | AF12: V | AI12: V
D13: 2 | E13: Kepala sekolah mengubahn perilaku putra / putri saya menjadi lebih baik | H13: V | K13: V | N13: V | Q13: V | T13: V | W13: V | Z13: V | AB13: V | AE13: V | AI13: V
D14: 3 | E14: Kepala sekolah memberikan bimbingan dalam pembelajaran kepada putra / putri saya yang dapat dimanfaatkan dalam kehidupan sehari-hari | H14: V | K14: V | N14: V | Q14: V | T14: V | W14: V | Z14: V | AC14: V | AF14: V | AI14: V
D15: 4 | E15: Kepala sekolah disenangi oleh putra / putri saya dan teman-temannya | H15: V | K15: V | N15: V | Q15: V | T15: V | V15: V | Z15: V | AC15: V | AF15: V | AH15: V
D16: 5 | E16: Kepala sekolah menyampaikan secara umum hasil belajar putra - putri saya | H16: V | K16: V | N16: V | Q16: V | T16: V | W16: V | Z16: V | AC16: V | AF16: V | AI16: V
E18: Jumlah Per Skor | F18: =COUNTA(F9:F16) -> 0 | G18: =COUNTA(G9:G16) -> 0 | H18: =COUNTA(H9:H16) -> 8 | I18: =COUNTA(I9:I16) -> 0 | J18: =COUNTA(J9:J16) -> 1 | K18: =COUNTA(K9:K16) -> 7 | L18: =COUNTA(L9:L16) -> 0 | M18: =COUNTA(M9:M16) -> 0 | ... AI18: =COUNTA(AI9:AI16) -> 6
B19: Jumlah Skor | G19: =(F18*0)+(G18*1)+(H18*2) -> 16 | J19: =(I18*0)+(J18*1)+(K18*2) -> 15 | M19: =(L18*0)+(M18*1)+(N18*2) -> 16 | P19: =(O18*0)+(P18*1)+(Q18*2) -> 16 | S19: =(R18*0)+(S18*1)+(T18*2) -> 15 | V19: =(U18*0)+(V18*1)+(W18*2) -> 15 | Y19: =(X18*0)+(Y18*1)+(Z18*2) -> 15 | AB19: =(AA18*0)+(AB18*1)+(AC18*2) -> 15 | AE19: =(AD18*0)+(AE18*1)+(AF18*2) -> 15 | AH19: =(AG18*0)+(AH18*1)+(AI18*2) -> 14 | AL19: Hasil
B20: Skor Maksimum = Jumlah indikator x 2 | G20: =COUNTA($D$9:$D$16)*2 -> 16 | J20: =COUNTA($D$9:$D$16)*2 -> 16 | M20: =COUNTA($D$9:$D$16)*2 -> 16 | P20: =COUNTA($D$9:$D$16)*2 -> 16 | S20: =COUNTA($D$9:$D$16)*2 -> 16 | V20: =COUNTA($D$9:$D$16)*2 -> 16 | Y20: =COUNTA($D$9:$D$16)*2 -> 16 | AB20: =COUNTA($D$9:$D$16)*2 -> 16 | AE20: =COUNTA($D$9:$D$16)*2 -> 16 | AH20: =COUNTA($D$9:$D$16)*2 -> 16 | AL20: Akhir
B21: Nilai Kinerja= (Jumlah skor/skor maksimum) x 100 | F21: =G19/G20*100 -> 100 | I21: =J19/J20*100 -> 93.75 | L21: =M19/M20*100 -> 100 | O21: =P19/P20*100 -> 100 | R21: =S19/S20*100 -> 93.75 | U21: =V19/V20*100 -> 93.75 | X21: =Y19/Y20*100 -> 93.75 | AA21: =AB19/AB20*100 -> 93.75 | AD21: =AE19/AE20*100 -> 93.75 | AG21: =AH19/AH20*100 -> 87.5 | AL21: =SUM(F21:AG21)/COUNTA(H7,K7,N7,Q7,T7,W7,Z7,AC7,AF7,AI7) -> 95
B22: Sebutan | G22: =IF(F21<=50,"Kurang",IF(F21<=60,"Sedang",IF(F21<=75,"Cukup",IF(F21<=90,"Baik",IF(F21<=100,"Amat Baik",""))))) -> Amat Baik | J22: =IF(I21<=50,"Kurang",IF(I21<=60,"Sedang",IF(I21<=75,"Cukup",IF(I21<=90,"Baik",IF(I21<=100,"Amat Baik",""))))) -> Amat Baik | M22: =IF(L21<=50,"Kurang",IF(L21<=60,"Sedang",IF(L21<=75,"Cukup",IF(L21<=90,"Baik",IF(L21<=100,"Amat Baik",""))))) -> Amat Baik | P22: =IF(O21<=50,"Kurang",IF(O21<=60,"Sedang",IF(O21<=75,"Cukup",IF(O21<=90,"Baik",IF(O21<=100,"Amat Baik",""))))) -> Amat Baik | S22: =IF(R21<=50,"Kurang",IF(R21<=60,"Sedang",IF(R21<=75,"Cukup",IF(R21<=90,"Baik",IF(R21<=100,"Amat Baik",""))))) -> Amat Baik | V22: =IF(U21<=50,"Kurang",IF(U21<=60,"Sedang",IF(U21<=75,"Cukup",IF(U21<=90,"Baik",IF(U21<=100,"Amat Baik",""))))) -> Amat Baik | Y22: =IF(X21<=50,"Kurang",IF(X21<=60,"Sedang",IF(X21<=75,"Cukup",IF(X21<=90,"Baik",IF(X21<=100,"Amat Baik",""))))) -> Amat Baik | AB22: =IF(AA21<=50,"Kurang",IF(AA21<=60,"Sedang",IF(AA21<=75,"Cukup",IF(AA21<=90,"Baik",IF(AA21<=100,"Amat Baik",""))))) -> Amat Baik | AE22: =IF(AD21<=50,"Kurang",IF(AD21<=60,"Sedang",IF(AD21<=75,"Cukup",IF(AD21<=90,"Baik",IF(AD21<=100,"Amat Baik",""))))) -> Amat Baik | AH22: =IF(AG21<=50,"Kurang",IF(AG21<=60,"Sedang",IF(AG21<=75,"Cukup",IF(AG21<=90,"Baik",IF(AG21<=100,"Amat Baik",""))))) -> Baik | AL22: =IF(AL21<=50,"Kurang",IF(AL21<=60,"Sedang",IF(AL21<=75,"Cukup",IF(AL21<=90,"Baik",IF(AL21<=100,"Amat Baik",""))))) -> Amat Baik

Sheet Penilaian Dudi
C2: PENILAIAN KEPALA SEKOLAH / PENDIDIK OLEH DUNIA USAHA DAN DUNIA INDUSTRI (DU-DI)
C4: Nama | D4: : | E4: ='Penilaian Guru'!E4&"" -> Jumadi, S.Pd., M.Pd | X4: Observer | AA4: : | AB4: ='Penilaian Guru'!AB4&"" -> Yulianto Harsono, S.Pd.,M.Si
C5: NIP | D5: : | E5: ='Penilaian Guru'!E5&"" -> 196603061988061001 | X5: NIP | AA5: : | AB5: ='Penilaian Guru'!AB5&"" -> 196907041994121001
C6: Tugas Pokok | D6: : | E6: =[1]SEJAWAT!E6&"" -> #REF! | X6: Hasil Nilai | AA6: : | AB6: =AL26 -> 0
B7: No | C7: Komponen | D7: Pernyataan | F7: Penilai | H7: 1 | I7: Penilai | K7: 2 | L7: Penilai | N7: 3 | O7: Penilai | Q7: 4 | R7: Penilai | T7: 5 | U7: Penilai | W7: 6 | X7: Penilai | Z7: 7 | AA7: Penilai | AD7: Penilai | AG7: Penilai
F8: 0 | G8: 1 | H8: 2 | I8: 0 | J8: 1 | K8: 2 | L8: 0 | M8: 1 | N8: 2 | O8: 0 | P8: 1 | Q8: 2 | R8: 0 | S8: 1 | T8: 2 | U8: 0 | V8: 1 | W8: 2 | X8: 0 | Y8: 1 | Z8: 2 | AA8: 0 | AB8: 1 | AC8: 2 | AD8: 0 | AE8: 1 | AF8: 2 | AG8: 0 | AH8: 1 | AI8: 2
B9: 1 | C9: Komunikasi | D9: 1 | E9: Kepala sekolah mengucapkan salam ketika berjumpa
D10: 2 | E10: Kepala sekolah berpakaian sopan
D11: 3 | E11: Kepala sekolah berbicara santun
D12: 4 | E12: Kepala sekolah bersikap ramah
D13: 5 | E13: Kepala sekolah bersikap sabar
D14: 6 | E14: Kepala sekolah menunjukkan sikap bertanggung jawab
D15: 7 | E15: Kepala sekolah menunjukkan sikap disiplin
D16: 8 | E16: Kepala sekolah peduli menjaga kebersihan lingkungan kerja
B17: 2. | C17: Komunikasi | D17: 1 | E17: Kepala sekolah mencari informasi sarana atau sumberbelajar dari instansi / DUDI
D18: 2 | E18: Kepala sekolah melaksanakan sinkronisasi kompetensi dasar dengan instansi dan DUDI
D19: 3 | E19: Kepala sekolah mengkoordinasikan penempatan peserta didik untuk praktik kerja lapangan dengan instansi atau DUDI
D20: 4 | E20: Kepala sekolah memantau peserta didik selama praktik kerja lapangan
D21: 5 | E21: Kepala sekolah mengkoordinasikan penyusunan laporan jurnal praktik kerja lapangan dengan instansi atau DUDI
E23: Jumlah Per Skor | F23: =COUNTA(F9:F21) -> 0 | G23: =COUNTA(G9:G21) -> 0 | H23: =COUNTA(H9:H21) -> 0 | I23: =COUNTA(I9:I21) -> 0 | J23: =COUNTA(J9:J21) -> 0 | K23: =COUNTA(K9:K21) -> 0 | L23: =COUNTA(L9:L21) -> 0 | M23: =COUNTA(M9:M21) -> 0 | ... AI23: =COUNTA(AI9:AI21) -> 0
B24: Jumlah Skor | G24: =(F23*0)+(G23*1)+(H23*2) -> 0 | J24: =(I23*0)+(J23*1)+(K23*2) -> 0 | M24: =(L23*0)+(M23*1)+(N23*2) -> 0 | P24: =(O23*0)+(P23*1)+(Q23*2) -> 0 | S24: =(R23*0)+(S23*1)+(T23*2) -> 0 | V24: =(U23*0)+(V23*1)+(W23*2) -> 0 | Y24: =(X23*0)+(Y23*1)+(Z23*2) -> 0 | AB24: =(AA23*0)+(AB23*1)+(AC23*2) -> 0 | AE24: =(AD23*0)+(AE23*1)+(AF23*2) -> 0 | AH24: =(AG23*0)+(AH23*1)+(AI23*2) -> 0 | AL24: Hasil
B25: Skor Maksimum = Jumlah indikator x 2 | G25: =COUNTA($D$9:$D$21)*2 -> 26 | J25: =COUNTA($D$9:$D$21)*2 -> 26 | M25: =COUNTA($D$9:$D$21)*2 -> 26 | P25: =COUNTA($D$9:$D$21)*2 -> 26 | S25: =COUNTA($D$9:$D$21)*2 -> 26 | V25: =COUNTA($D$9:$D$21)*2 -> 26 | Y25: =COUNTA($D$9:$D$21)*2 -> 26 | AB25: =COUNTA($D$9:$D$21)*2 -> 26 | AE25: =COUNTA($D$9:$D$21)*2 -> 26 | AH25: =COUNTA($D$9:$D$21)*2 -> 26 | AL25: Akhir
B26: Nilai Kinerja= (Jumlah skor/skor maksimum) x 100 | F26: =G24/G25*100 -> 0 | I26: =J24/J25*100 -> 0 | L26: =M24/M25*100 -> 0 | O26: =P24/P25*100 -> 0 | R26: =S24/S25*100 -> 0 | U26: =V24/V25*100 -> 0 | X26: =Y24/Y25*100 -> 0 | AA26: =AB24/AB25*100 -> 0 | AD26: =AE24/AE25*100 -> 0 | AG26: =AH24/AH25*100 -> 0 | AL26: =SUM(F26:AG26)/COUNTA(H7,K7,N7,Q7,T7,W7,Z7,AC7,AF7,AI7) -> 0
